Workbook
Name _: #N/A
Name _??1????: '[1]일위대가(계측기설치)'!#REF!
Name _??2????: '[1]일위대가(계측기설치)'!#REF!
Name _??3????: '[1]일위대가(계측기설치)'!#REF!
Name _??4????: '[1]일위대가(계측기설치)'!#REF!
Name _??5????: '[1]일위대가(계측기설치)'!#REF!
Name _??6????: '[1]일위대가(계측기설치)'!#REF!
Name _?__: '[2]1,2,3,4,5단위수량'!#REF!
Name ___: #REF!
Name _____: #REF!
Name _______: #REF!
Name _______________________UP1: [3]부하계산서!#REF!
Name ______________________UP1: [4]부하계산서!#REF!
Name _____________________UP1: [3]부하계산서!#REF!
Name ____________________UP1: [3]부하계산서!#REF!
Name ___________________AMP1: #REF!
Name ___________________CCT1: #REF!
Name ___________________CCT2: #REF!
Name ___________________DOG1: #REF!
Name ___________________DOG2: #REF!
Name ___________________DOG3: #REF!
Name ___________________DOG4: #REF!
Name ___________________LTG1: #REF!
Name ___________________PI48: #REF!
Name ___________________PI60: #REF!
Name ___________________PNL1: #REF!
Name ___________________RO110: #REF!
Name ___________________RO22: #REF!
Name ___________________RO35: #REF!
Name ___________________RO60: #REF!
Name ___________________RO80: #REF!
Name ___________________TON1: #REF!
Name ___________________TON2: #REF!
Name ___________________UP1: #REF!
Name ___________________WW2: #REF!
Name ___________________WW6: #REF!
Name __________________AMP1: #REF!
Name __________________CCT1: #REF!
Name __________________CCT2: #REF!
Name __________________DLS7: [5]견적!#REF!
Name __________________DOG1: #REF!
Name __________________DOG2: #REF!
Name __________________DOG3: #REF!
Name __________________DOG4: #REF!
Name __________________LTG1: #REF!
Name __________________PI48: #REF!
Name __________________PI60: #REF!
Name __________________PNL1: #REF!
Name __________________RO110: #REF!
Name __________________RO22: #REF!
Name __________________RO35: #REF!
Name __________________RO60: #REF!
Name __________________RO80: #REF!
Name __________________TON1: #REF!
Name __________________TON2: #REF!
Name __________________UP1: #REF!
Name __________________WK7: [5]견적!#REF!
Name __________________WW2: #REF!
Name __________________WW6: #REF!
Name _________________AMP1: #REF!

Sheet 원가계산서
A1: 공 사 원 가 계 산 서
A2: 공사명 : 안전방충망 제작 및 설치 | E2: ="금액:"&TEXT(F2,"[DBNUM4] G/표준")&"원정" -> 금액: 일십오만삼천사백삼십오원정 | F2: =D21 -> 153435
A3: 비 목 | D3: 금 액 | E3: 구 성 비 | F3: 비 고
A4: 순 공 사 원 가 | B4: 재 료 비 | C4: 직 접 재 료 비 | D4: =공종별집계표!F5 -> 122390
C5: 간 접 재 료 비 | D5: 0
C6: 작 업 부 산 물
C7: [ 소 계 ] | D7: =TRUNC(D4+D5-D6, 0) -> 122390
B8: 노 무 비 | C8: 직 접 노 무 비 | D8: =공종별집계표!H5 -> 0
C9: 간 접 노 무 비 | D9: =TRUNC(D8*0.122,0) -> 0 | E9: 직접노무비 * 12.2%
C10: [ 소 계 ] | D10: =TRUNC(D8+D9, 0) -> 0
B11: 경 비 | C11: 기 계 경 비 | D11: =공종별집계표!J5 -> 0
C12: 산 재 보 험 료 | D12: =TRUNC(D10*0.0356,0) -> 0 | E12: 노무비 * 3.56%
C13: 고 용 보 험 료 | D13: =TRUNC(D10*0.0101,0) -> 0 | E13: 노무비 * 1.01%
C14: 기 타 경 비 | D14: =TRUNC((D7+D10)*0.058,0) -> 7098 | E14: (재료비+노무비) * 5.8%
C15: [ 소 계 ] | D15: =SUM(D11:D14) -> 7098
A16: 계 | D16: =TRUNC(D7+D10+D15, 0) -> 129488
A17: 일 반 관 리 비 | D17: =TRUNC(D16*0.06, 0) -> 7769 | E17: 계 * 6%
A18: 이 윤 | D18: =TRUNC((D10+D15+D17)*0.15,0) -> 2230 | E18: (노무비+경비+일반관리비) * 15%
A19: 공 급 가 액 | D19: =TRUNC(D16+D17+D18, 0) -> 139487
A20: 부 가 가 치 세 | D20: =TRUNC(D19*0.1, 0) -> 13948 | E20: 공급가액 * 10%
A21: 도 급 액 | D21: =D19+D20 -> 153435
A22: 총 공 사 비 | D22: =D21 -> 153435

Sheet 공종별집계표
A1: 공 종 별 집 계 표
A2: =원가계산서!A2 -> 공사명 : 안전방충망 제작 및 설치
A3: 품 명 | B3: 규 격 | C3: 단위 | D3: 수량 | E3: 재 료 비 | G3: 노 무 비 | I3: 경 비 | K3: 합 계 | M3: 비 고
E4: 단 가 | F4: 금 액 | G4: 단 가 | H4: 금 액 | I4: 단 가 | J4: 금 액 | K4: 단 가 | L4: 금 액
A5: 01 제작 및 설치 | D5: 1 | E5: =F6 -> 122390 | F5: =E5*D5 -> 122390 | G5: =H6 -> 0 | H5: =G5*D5 -> 0 | I5: =J6 -> 0 | J5: =I5*D5 -> 0 | K5: =E5+G5+I5 -> 122390 | L5: =F5+H5+J5 -> 122390
A6: 0101 금 속 공 사 | D6: 1 | E6: =공종별내역서!F14 -> 122390 | F6: =E6*D6 -> 122390 | G6: =공종별내역서!H14 -> 0 | H6: =G6*D6 -> 0 | I6: =공종별내역서!J14 -> 0 | J6: =I6*D6 -> 0 | K6: =E6+G6+I6 -> 122390 | L6: =F6+H6+J6 -> 122390
A18: [ 합 계 ] | F18: =F5 -> 122390 | H18: =H5 -> 0 | J18: =J5 -> 0 | L18: =L5 -> 122390

Sheet 공종별내역서
A1: =원가계산서!A2 -> 공사명 : 안전방충망 제작 및 설치
A2: 품 명 | B2: 규 격 | C2: 단위 | D2: 수량 | E2: 재 료 비 | G2: 노 무 비 | I2: 경 비 | K2: 합 계 | M2: 비 고
E3: 단 가 | F3: 금 액 | G3: 단 가 | H3: 금 액 | I3: 단 가 | J3: 금 액 | K3: 단 가 | L3: 금 액
A4: 0101 금 속 공 사
A5: 안전망틀 | B5: 알루미늄, 불소수지 | C5: kg | D5: 6.35 | E5: 15000 | F5: =TRUNC(E5*D5, 0) -> 95250 | G5: 0 | H5: =TRUNC(G5*D5, 0) -> 0 | I5: 0 | J5: =TRUNC(I5*D5, 0) -> 0 | K5: =TRUNC(E5+G5+I5, 0) -> 15000 | L5: =TRUNC(F5+H5+J5, 0) -> 95250 | M5: 나라장터
A6: 안전망 | B6: 스테인리스, 0.6mm, 14메시 | C6: M | D6: 1 | E6: 27140 | F6: =TRUNC(E6*D6, 0) -> 27140 | G6: 0 | H6: =TRUNC(G6*D6, 0) -> 0 | I6: 0 | J6: =TRUNC(I6*D6, 0) -> 0 | K6: =TRUNC(E6+G6+I6, 0) -> 27140 | L6: =TRUNC(F6+H6+J6, 0) -> 27140 | M6: 물가자료
A7: 제작 및 설치 | C7: ? | D7: 0 | F7: =TRUNC(E7*D7, 0) -> 0 | H7: =TRUNC(G7*D7, 0) -> 0 | J7: =TRUNC(I7*D7, 0) -> 0 | K7: =TRUNC(E7+G7+I7, 0) -> 0 | L7: =TRUNC(F7+H7+J7, 0) -> 0
A14: [ 합 계 ] | F14: =SUM(F5:F13) -> 122390 | H14: =SUM(H5:H13) -> 0 | J14: =SUM(J5:J13) -> 0 | L14: =SUM(L5:L13) -> 122390
